BEGIN:VCALENDAR
VERSION:2.0
PRODID:-//SustainMV - ECPv6.15.18//NONSGML v1.0//EN
CALSCALE:GREGORIAN
METHOD:PUBLISH
X-ORIGINAL-URL:https://sustainmv.de
X-WR-CALDESC:Events for SustainMV
REFRESH-INTERVAL;VALUE=DURATION:PT1H
X-Robots-Tag:noindex
X-PUBLISHED-TTL:PT1H
BEGIN:VTIMEZONE
TZID:Europe/Berlin
BEGIN:DAYLIGHT
TZOFFSETFROM:+0100
TZOFFSETTO:+0200
TZNAME:CEST
DTSTART:20250330T010000
END:DAYLIGHT
BEGIN:STANDARD
TZOFFSETFROM:+0200
TZOFFSETTO:+0100
TZNAME:CET
DTSTART:20251026T010000
END:STANDARD
BEGIN:DAYLIGHT
TZOFFSETFROM:+0100
TZOFFSETTO:+0200
TZNAME:CEST
DTSTART:20260329T010000
END:DAYLIGHT
BEGIN:STANDARD
TZOFFSETFROM:+0200
TZOFFSETTO:+0100
TZNAME:CET
DTSTART:20261025T010000
END:STANDARD
BEGIN:DAYLIGHT
TZOFFSETFROM:+0100
TZOFFSETTO:+0200
TZNAME:CEST
DTSTART:20270328T010000
END:DAYLIGHT
BEGIN:STANDARD
TZOFFSETFROM:+0200
TZOFFSETTO:+0100
TZNAME:CET
DTSTART:20271031T010000
END:STANDARD
END:VTIMEZONE
BEGIN:VEVENT
DTSTART;TZID=Europe/Berlin:20260827T170000
DTEND;TZID=Europe/Berlin:20260827T183000
DTSTAMP:20260425T022454
CREATED:20260302T103729Z
LAST-MODIFIED:20260410T104221Z
UID:4125-1787850000-1787855400@sustainmv.de
SUMMARY:Public Lecture by Prof. Dr. Kreyling
DESCRIPTION:Public evening lecture by Prof. Dr. Jürgen Kreyling on “Paludicultur as sustainable use of rewetted peatlands” in cooperation with the Alfried Krupp Wissenschaftskolleg.
URL:https://sustainmv.de/event/public-lecture/
LOCATION:Alfried Krupp Wissenschaftskolleg\, Martin-Luther-Straße 14\, Greifswald\, 17489\, Germany
CATEGORIES:Calendar
END:VEVENT
END:VCALENDAR